BEGIN:VCALENDAR
VERSION:2.0
PRODID:-//Commercial Club of Hortonville - ECPv6.15.20//NONSGML v1.0//EN
CALSCALE:GREGORIAN
METHOD:PUBLISH
X-WR-CALNAME:Commercial Club of Hortonville
X-ORIGINAL-URL:https://commercialclub.org
X-WR-CALDESC:Events for Commercial Club of Hortonville
REFRESH-INTERVAL;VALUE=DURATION:PT1H
X-Robots-Tag:noindex
X-PUBLISHED-TTL:PT1H
BEGIN:VTIMEZONE
TZID:America/New_York
BEGIN:DAYLIGHT
TZOFFSETFROM:-0500
TZOFFSETTO:-0400
TZNAME:EDT
DTSTART:20250309T070000
END:DAYLIGHT
BEGIN:STANDARD
TZOFFSETFROM:-0400
TZOFFSETTO:-0500
TZNAME:EST
DTSTART:20251102T060000
END:STANDARD
BEGIN:DAYLIGHT
TZOFFSETFROM:-0500
TZOFFSETTO:-0400
TZNAME:EDT
DTSTART:20260308T070000
END:DAYLIGHT
BEGIN:STANDARD
TZOFFSETFROM:-0400
TZOFFSETTO:-0500
TZNAME:EST
DTSTART:20261101T060000
END:STANDARD
BEGIN:DAYLIGHT
TZOFFSETFROM:-0500
TZOFFSETTO:-0400
TZNAME:EDT
DTSTART:20270314T070000
END:DAYLIGHT
BEGIN:STANDARD
TZOFFSETFROM:-0400
TZOFFSETTO:-0500
TZNAME:EST
DTSTART:20271107T060000
END:STANDARD
END:VTIMEZONE
BEGIN:VEVENT
DTSTART;TZID=America/New_York:20260815T150000
DTEND;TZID=America/New_York:20260815T220000
DTSTAMP:20260423T084719
CREATED:20251205T025318Z
LAST-MODIFIED:20251205T025318Z
UID:299-1786806000-1786831200@commercialclub.org
SUMMARY:2026 Harley Raffle
DESCRIPTION:See our Harley Raffle Page for complete details. \n 
URL:https://commercialclub.org/event/2024-harley-raffle-2-2/
LOCATION:Commercial Club Park\, 315 N. Olk St.\, Hortonville\, WI\, 54944\, United States
CATEGORIES:Commercial Club Park
ORGANIZER;CN="Commercial CLub":MAILTO:info@commercialclub.org
END:VEVENT
BEGIN:VEVENT
DTSTART;TZID=America/New_York:20261128T162500
DTEND;TZID=America/New_York:20261128T170000
DTSTAMP:20260423T084719
CREATED:20251205T025201Z
LAST-MODIFIED:20251205T025201Z
UID:298-1795883100-1795885200@commercialclub.org
SUMMARY:Gone But Not Forgotten - Star Light Tree 2026
DESCRIPTION:For a $10.00 donation\, a star will be placed on a tree that will be decorated in the front of the Commercial Club Park\, along with a display of who the remembrance is for and who it was given by. A brief ceremony will take place at 4:25 by the tree in front of the park. Proceeds from this event will benefit the playground & youth fund. \nStarlight Letter – Fillable Web 2026
URL:https://commercialclub.org/event/gone-but-not-forgotten-star-light-tree-2/
LOCATION:Commercial Club Park\, 315 N. Olk St.\, Hortonville\, WI\, 54944\, United States
CATEGORIES:Commercial Club Park
ORGANIZER;CN="Linda Lambie":MAILTO:sixlambies@gmail.com
END:VEVENT
END:VCALENDAR